BEGIN:VCALENDAR
VERSION:2.0
PRODID:-//Tukios.com/
BEGIN:VEVENT
UID:1f2185eb-2572-45d4-b938-f2f9226d19d2@www.elmwoodfuneral.com
DTSTAMP:20260424T215340Z
DTSTART:20260504T161500Z
DTEND:20260504T173000Z
SUMMARY:Graveside Service
DESCRIPTION:
URL:https://www.elmwoodfuneral.com/obituaries/sandra-smith
LOCATION:Elmwood Memorial Park 5750 Hwy 277 South  Abilene TX 79606
GEO:32.3737372;-99.8464097
END:VEVENT
END:VCALENDAR