BEGIN:VCALENDAR
VERSION:2.0
PRODID:-//Tukios.com/
BEGIN:VEVENT
UID:6e7ed501-2410-4861-b06f-40edd3c31406@www.elmwoodfuneral.com
DTSTAMP:20260424T214929Z
DTSTART:20260504T150000Z
DTEND:20260504T160000Z
SUMMARY:Visitation
DESCRIPTION:
URL:https://www.elmwoodfuneral.com/obituaries/sandra-smith
LOCATION:Elmwood Funeral Home Family Center 5750 Hwy 277 South  Abilene 
	TX 79606
GEO:32.3737372;-99.8464097
END:VEVENT
END:VCALENDAR