BEGIN:VCALENDAR
VERSION:2.0
PRODID:-//Tukios.com/
BEGIN:VEVENT
UID:4b5ad210-2678-4c30-9094-b38c6551ef0c@www.elmwoodfuneral.com
DTSTAMP:20260425T200229Z
DTSTART:20260508T230000Z
DTEND:20260509T010000Z
SUMMARY:Visitation 
DESCRIPTION:
URL:https://www.elmwoodfuneral.com/obituaries/pasty-davidson
LOCATION:Elmwood Funeral Home     
GEO:0;0
END:VEVENT
END:VCALENDAR