BEGIN:VCALENDAR
VERSION:2.0
PRODID:-//Tukios.com/
BEGIN:VEVENT
UID:a52e31eb-a2a9-48d4-8c7a-177e862edd43@www.elmwoodfuneral.com
DTSTAMP:20260425T200106Z
DTSTART:20260509T160000Z
DTEND:20260509T180000Z
SUMMARY:Funeral Service
DESCRIPTION:
URL:https://www.elmwoodfuneral.com/obituaries/pasty-davidson
LOCATION:Funeral Home Chapel 5750 Hwy 277 South  Abilene TX 79606
GEO:32.3737372;-99.8464097
END:VEVENT
END:VCALENDAR