BEGIN:VCALENDAR
VERSION:2.0
PRODID:-//Tukios.com/
BEGIN:VEVENT
UID:872ed750-cfde-4d69-98a5-2727722ea2db@www.elmwoodfuneral.com
DTSTAMP:20260425T200845Z
DTSTART:20260509T160000Z
DTEND:20260509T180000Z
SUMMARY:Encore Livestreaming with Social Media
DESCRIPTION:
URL:https://www.elmwoodfuneral.com/obituaries/pasty-davidson
LOCATION:Funeral Home Chapel 5750 Hwy 277 South  Abilene TX 79606
GEO:32.3737372;-99.8464097
END:VEVENT
END:VCALENDAR